BEGIN:VCALENDAR
METHOD:PUBLISH
VERSION:2.0
PRODID:-//IGD//IGD//IT
BEGIN:VEVENT
SUMMARY:2019 EPRA Conference
UID:22599
DTSTART:20190909T220000Z
DTEND:20190909T220000Z
LAST-MODIFIED:20190718T000000Z
LOCATION:Madrid
END:VEVENT
BEGIN:VEVENT
SUMMARY:2019 EPRA Conference
UID:22599
DTSTART:20190910T220000Z
DTEND:20190910T220000Z
LAST-MODIFIED:20190718T000000Z
LOCATION:Madrid
END:VEVENT
END:VCALENDAR