BEGIN:VCALENDAR
METHOD:PUBLISH
VERSION:2.0
PRODID:-//IGD//IGD//IT
BEGIN:VEVENT
SUMMARY:Italian Sustainability Day 2019
UID:21763
DTSTART:20190701T220000Z
DTEND:20190701T220000Z
LAST-MODIFIED:20190603T000000Z
LOCATION:Milan
END:VEVENT
END:VCALENDAR