BEGIN:VCALENDAR
METHOD:PUBLISH
VERSION:2.0
PRODID:-//IGD//IGD//IT
BEGIN:VEVENT
SUMMARY:Morgan Stanley Europe &#038; EEMEA Property Conference 2019
UID:21753
DTSTART:20190619T220000Z
DTEND:20190619T220000Z
LAST-MODIFIED:20190603T000000Z
LOCATION:London
END:VEVENT
END:VCALENDAR