BEGIN:VCALENDAR
METHOD:PUBLISH
VERSION:2.0
PRODID:-//IGD//IGD//IT
BEGIN:VEVENT
SUMMARY:Progetti d&#8217;Italia 2019 &#8211; Quotidiano Immobiliare
UID:21447
DTSTART:20190515T220000Z
DTEND:20190515T220000Z
LAST-MODIFIED:20190510T000000Z
LOCATION:Milan
END:VEVENT
END:VCALENDAR