BEGIN:VCALENDAR
METHOD:PUBLISH
VERSION:2.0
PRODID:-//IGD//IGD//IT
BEGIN:VEVENT
SUMMARY:Italian Investment Conference 2019
UID:21439
DTSTART:20190521T220000Z
DTEND:20190521T220000Z
LAST-MODIFIED:20190522T000000Z
LOCATION:Milan
END:VEVENT
END:VCALENDAR