BEGIN:VCALENDAR
METHOD:PUBLISH
VERSION:2.0
PRODID:-//IGD//IGD//IT
BEGIN:VEVENT
SUMMARY:2019 dividend payment
UID:20249
DTSTART:20190514T220000Z
DTEND:20190514T220000Z
LAST-MODIFIED:20190321T000000Z
LOCATION:
END:VEVENT
END:VCALENDAR