BEGIN:VCALENDAR
METHOD:PUBLISH
VERSION:2.0
PRODID:-//IGD//IGD//IT
BEGIN:VEVENT
SUMMARY:Going ex-dividend 2019
UID:20245
DTSTART:20190512T220000Z
DTEND:20190512T220000Z
LAST-MODIFIED:20190321T000000Z
LOCATION:
END:VEVENT
END:VCALENDAR