BEGIN:VCALENDAR
METHOD:PUBLISH
VERSION:2.0
PRODID:-//IGD//IGD//IT
BEGIN:VEVENT
SUMMARY:Roadshow with Banca IMI
UID:20038
DTSTART:20190305T230000Z
DTEND:20190305T230000Z
LAST-MODIFIED:20190322T000000Z
LOCATION:Lussemburgo e Bruxelles
END:VEVENT
BEGIN:VEVENT
SUMMARY:Roadshow with Banca IMI
UID:20038
DTSTART:20190306T230000Z
DTEND:20190306T230000Z
LAST-MODIFIED:20190322T000000Z
LOCATION:Lussemburgo e Bruxelles
END:VEVENT
END:VCALENDAR