BEGIN:VCALENDAR
METHOD:PUBLISH
VERSION:2.0
PRODID:-//IGD//IGD//IT
BEGIN:VEVENT
SUMMARY:Shopping Centers for Italian Red Cross
UID:19382
DTSTART:20190216T230000Z
DTEND:20190216T230000Z
LAST-MODIFIED:20200609T000000Z
LOCATION:
END:VEVENT
END:VCALENDAR