BEGIN:VCALENDAR
METHOD:PUBLISH
VERSION:2.0
PRODID:-//IGD//IGD//IT
BEGIN:VEVENT
SUMMARY:Going ex dividend 2018
UID:19268
DTSTART:20180610T220000Z
DTEND:20180610T220000Z
LAST-MODIFIED:20190131T000000Z
LOCATION:
END:VEVENT
END:VCALENDAR