BEGIN:VCALENDAR
METHOD:PUBLISH
VERSION:2.0
PRODID:-//IGD//IGD//IT
BEGIN:VEVENT
SUMMARY:2019 STAR Conference
UID:19222
DTSTART:20190319T230000Z
DTEND:20190319T230000Z
LAST-MODIFIED:20190322T000000Z
LOCATION:Milan
END:VEVENT
END:VCALENDAR