BEGIN:VCALENDAR
METHOD:PUBLISH
VERSION:2.0
PRODID:-//IGD//IGD//IT
BEGIN:VEVENT
SUMMARY:2017 dividend payment
UID:19162
DTSTART:20170523T220000Z
DTEND:20170523T220000Z
LAST-MODIFIED:20190123T000000Z
LOCATION:
END:VEVENT
END:VCALENDAR