BEGIN:VCALENDAR
METHOD:PUBLISH
VERSION:2.0
PRODID:-//IGD//IGD//IT
BEGIN:VEVENT
SUMMARY:Mapic Cannes 2019
UID:19157
DTSTART:20191112T230000Z
DTEND:20191112T230000Z
LAST-MODIFIED:20190123T000000Z
LOCATION:Cannes, France, Palais des Festivals
END:VEVENT
BEGIN:VEVENT
SUMMARY:Mapic Cannes 2019
UID:19157
DTSTART:20191113T230000Z
DTEND:20191113T230000Z
LAST-MODIFIED:20190123T000000Z
LOCATION:Cannes, France, Palais des Festivals
END:VEVENT
BEGIN:VEVENT
SUMMARY:Mapic Cannes 2019
UID:19157
DTSTART:20191114T230000Z
DTEND:20191114T230000Z
LAST-MODIFIED:20190123T000000Z
LOCATION:Cannes, France, Palais des Festivals
END:VEVENT
END:VCALENDAR