BEGIN:VCALENDAR
METHOD:PUBLISH
VERSION:2.0
PRODID:-//IGD//IGD//IT
BEGIN:VEVENT
SUMMARY:Mapic Italy 2019
UID:19153
DTSTART:20190506T220000Z
DTEND:20190506T220000Z
LAST-MODIFIED:20190503T000000Z
LOCATION:Milan
END:VEVENT
BEGIN:VEVENT
SUMMARY:Mapic Italy 2019
UID:19153
DTSTART:20190507T220000Z
DTEND:20190507T220000Z
LAST-MODIFIED:20190503T000000Z
LOCATION:Milan
END:VEVENT
BEGIN:VEVENT
SUMMARY:Mapic Italy 2019
UID:19153
DTSTART:20190508T220000Z
DTEND:20190508T220000Z
LAST-MODIFIED:20190503T000000Z
LOCATION:Milan
END:VEVENT
END:VCALENDAR