BEGIN:VCALENDAR
METHOD:PUBLISH
VERSION:2.0
PRODID:-//IGD//IGD//IT
BEGIN:VEVENT
SUMMARY:Board of Directors 9 November 2017
UID:19148
DTSTART:20171108T230000Z
DTEND:20171108T230000Z
LAST-MODIFIED:20190123T000000Z
LOCATION:Bologna
END:VEVENT
END:VCALENDAR