BEGIN:VCALENDAR
METHOD:PUBLISH
VERSION:2.0
PRODID:-//IGD//IGD//IT
BEGIN:VEVENT
SUMMARY:Board of Directors 4 August 2017
UID:19142
DTSTART:20170803T220000Z
DTEND:20170803T220000Z
LAST-MODIFIED:20190123T000000Z
LOCATION:Bologna
END:VEVENT
END:VCALENDAR