BEGIN:VCALENDAR
METHOD:PUBLISH
VERSION:2.0
PRODID:-//IGD//IGD//IT
BEGIN:VEVENT
SUMMARY:Mapic Cannes 2017
UID:19139
DTSTART:20171114T230000Z
DTEND:20171114T230000Z
LAST-MODIFIED:20190123T000000Z
LOCATION:Cannes, France, Palais des Festival
END:VEVENT
BEGIN:VEVENT
SUMMARY:Mapic Cannes 2017
UID:19139
DTSTART:20171115T230000Z
DTEND:20171115T230000Z
LAST-MODIFIED:20190123T000000Z
LOCATION:Cannes, France, Palais des Festival
END:VEVENT
BEGIN:VEVENT
SUMMARY:Mapic Cannes 2017
UID:19139
DTSTART:20171116T230000Z
DTEND:20171116T230000Z
LAST-MODIFIED:20190123T000000Z
LOCATION:Cannes, France, Palais des Festival
END:VEVENT
END:VCALENDAR