BEGIN:VCALENDAR
METHOD:PUBLISH
VERSION:2.0
PRODID:-//IGD//IGD//IT
BEGIN:VEVENT
SUMMARY:Board of Directors 9 May 2017
UID:19133
DTSTART:20170508T220000Z
DTEND:20170508T220000Z
LAST-MODIFIED:20190123T000000Z
LOCATION:Bologna
END:VEVENT
END:VCALENDAR