BEGIN:VCALENDAR
METHOD:PUBLISH
VERSION:2.0
PRODID:-//IGD//IGD//IT
BEGIN:VEVENT
SUMMARY:Annual General Meeting 12 April 2017 (first call)
UID:19130
DTSTART:20170412T080000Z
DTEND:20170412T080000Z
LAST-MODIFIED:20190123T000000Z
LOCATION:Bologna
END:VEVENT
END:VCALENDAR