BEGIN:VCALENDAR
METHOD:PUBLISH
VERSION:2.0
PRODID:-//IGD//IGD//IT
BEGIN:VEVENT
SUMMARY:Mapic Italy 2018
UID:18727
DTSTART:20180522T220000Z
DTEND:20180522T220000Z
LAST-MODIFIED:20190121T000000Z
LOCATION:Milan
END:VEVENT
BEGIN:VEVENT
SUMMARY:Mapic Italy 2018
UID:18727
DTSTART:20180523T220000Z
DTEND:20180523T220000Z
LAST-MODIFIED:20190121T000000Z
LOCATION:Milan
END:VEVENT
END:VCALENDAR