BEGIN:VCALENDAR
METHOD:PUBLISH
VERSION:2.0
PRODID:-//IGD//IGD//IT
BEGIN:VEVENT
SUMMARY:Italian Stock Exchange: closing days from 31 December 2019 to 1st January 2020
UID:17086
DTSTART:20191230T230000Z
DTEND:20191230T230000Z
LAST-MODIFIED:20191209T000000Z
LOCATION:Milan
END:VEVENT
BEGIN:VEVENT
SUMMARY:Italian Stock Exchange: closing days from 31 December 2019 to 1st January 2020
UID:17086
DTSTART:20191231T230000Z
DTEND:20191231T230000Z
LAST-MODIFIED:20191209T000000Z
LOCATION:Milan
END:VEVENT
END:VCALENDAR