BEGIN:VCALENDAR
METHOD:PUBLISH
VERSION:2.0
PRODID:-//IGD//IGD//IT
BEGIN:VEVENT
SUMMARY:Italian Stock Exchange: closing day 15 August 2019
UID:17061
DTSTART:20190814T220000Z
DTEND:20190814T220000Z
LAST-MODIFIED:20190111T000000Z
LOCATION:Milan
END:VEVENT
END:VCALENDAR