BEGIN:VCALENDAR
METHOD:PUBLISH
VERSION:2.0
PRODID:-//IGD//IGD//IT
BEGIN:VEVENT
SUMMARY:Italian Stock Exchange: closing days from 19 to 22 April 2019
UID:17019
DTSTART:20190418T220000Z
DTEND:20190418T220000Z
LAST-MODIFIED:20190111T000000Z
LOCATION:Milan
END:VEVENT
BEGIN:VEVENT
SUMMARY:Italian Stock Exchange: closing days from 19 to 22 April 2019
UID:17019
DTSTART:20190419T220000Z
DTEND:20190419T220000Z
LAST-MODIFIED:20190111T000000Z
LOCATION:Milan
END:VEVENT
BEGIN:VEVENT
SUMMARY:Italian Stock Exchange: closing days from 19 to 22 April 2019
UID:17019
DTSTART:20190420T220000Z
DTEND:20190420T220000Z
LAST-MODIFIED:20190111T000000Z
LOCATION:Milan
END:VEVENT
BEGIN:VEVENT
SUMMARY:Italian Stock Exchange: closing days from 19 to 22 April 2019
UID:17019
DTSTART:20190421T220000Z
DTEND:20190421T220000Z
LAST-MODIFIED:20190111T000000Z
LOCATION:Milan
END:VEVENT
END:VCALENDAR