BEGIN:VCALENDAR
METHOD:PUBLISH
VERSION:2.0
PRODID:-//IGD//IGD//IT
BEGIN:VEVENT
SUMMARY:Italian Stock Exchange: closing day on 1 January 2019
UID:17014
DTSTART:20181231T230000Z
DTEND:20181231T230000Z
LAST-MODIFIED:20190111T000000Z
LOCATION:Milan
END:VEVENT
END:VCALENDAR