BEGIN:VCALENDAR
METHOD:PUBLISH
VERSION:2.0
PRODID:-//IGD//IGD//IT
BEGIN:VEVENT
SUMMARY:Conference call to present the results as at 30 September 2019
UID:17009
DTSTART:20191106T230000Z
DTEND:20191106T230000Z
LAST-MODIFIED:20191107T000000Z
LOCATION:
END:VEVENT
END:VCALENDAR