BEGIN:VCALENDAR
METHOD:PUBLISH
VERSION:2.0
PRODID:-//IGD//IGD//IT
BEGIN:VEVENT
SUMMARY:Conference call to present the results as at 30 June 2019
UID:16903
DTSTART:20190801T223000Z
DTEND:20190801T223000Z
LAST-MODIFIED:20200518T000000Z
LOCATION:
END:VEVENT
END:VCALENDAR