BEGIN:VCALENDAR
METHOD:PUBLISH
VERSION:2.0
PRODID:-//IGD//IGD//IT
BEGIN:VEVENT
SUMMARY:Conference call to present the results as at 31 March 2019
UID:16894
DTSTART:20190506T220000Z
DTEND:20190506T220000Z
LAST-MODIFIED:20190507T000000Z
LOCATION:
END:VEVENT
END:VCALENDAR