BEGIN:VCALENDAR
METHOD:PUBLISH
VERSION:2.0
PRODID:-//IGD//IGD//IT
BEGIN:VEVENT
SUMMARY:Conference call to present the results as at 31 December 2018
UID:16880
DTSTART:20190226T133000Z
DTEND:20190226T133000Z
LAST-MODIFIED:20190225T000000Z
LOCATION:
END:VEVENT
END:VCALENDAR