BEGIN:VCALENDAR
METHOD:PUBLISH
VERSION:2.0
PRODID:-//IGD//IGD//IT
BEGIN:VEVENT
SUMMARY:Blocking period October/November 2019
UID:16872
DTSTART:20191007T220000Z
DTEND:20191007T220000Z
LAST-MODIFIED:20190110T000000Z
LOCATION:
END:VEVENT
BEGIN:VEVENT
SUMMARY:Blocking period October/November 2019
UID:16872
DTSTART:20191008T220000Z
DTEND:20191008T220000Z
LAST-MODIFIED:20190110T000000Z
LOCATION:
END:VEVENT
BEGIN:VEVENT
SUMMARY:Blocking period October/November 2019
UID:16872
DTSTART:20191009T220000Z
DTEND:20191009T220000Z
LAST-MODIFIED:20190110T000000Z
LOCATION:
END:VEVENT
BEGIN:VEVENT
SUMMARY:Blocking period October/November 2019
UID:16872
DTSTART:20191010T220000Z
DTEND:20191010T220000Z
LAST-MODIFIED:20190110T000000Z
LOCATION:
END:VEVENT
BEGIN:VEVENT
SUMMARY:Blocking period October/November 2019
UID:16872
DTSTART:20191011T220000Z
DTEND:20191011T220000Z
LAST-MODIFIED:20190110T000000Z
LOCATION:
END:VEVENT
BEGIN:VEVENT
SUMMARY:Blocking period October/November 2019
UID:16872
DTSTART:20191012T220000Z
DTEND:20191012T220000Z
LAST-MODIFIED:20190110T000000Z
LOCATION:
END:VEVENT
BEGIN:VEVENT
SUMMARY:Blocking period October/November 2019
UID:16872
DTSTART:20191013T220000Z
DTEND:20191013T220000Z
LAST-MODIFIED:20190110T000000Z
LOCATION:
END:VEVENT
BEGIN:VEVENT
SUMMARY:Blocking period October/November 2019
UID:16872
DTSTART:20191014T220000Z
DTEND:20191014T220000Z
LAST-MODIFIED:20190110T000000Z
LOCATION:
END:VEVENT
BEGIN:VEVENT
SUMMARY:Blocking period October/November 2019
UID:16872
DTSTART:20191015T220000Z
DTEND:20191015T220000Z
LAST-MODIFIED:20190110T000000Z
LOCATION:
END:VEVENT
BEGIN:VEVENT
SUMMARY:Blocking period October/November 2019
UID:16872
DTSTART:20191016T220000Z
DTEND:20191016T220000Z
LAST-MODIFIED:20190110T000000Z
LOCATION:
END:VEVENT
BEGIN:VEVENT
SUMMARY:Blocking period October/November 2019
UID:16872
DTSTART:20191017T220000Z
DTEND:20191017T220000Z
LAST-MODIFIED:20190110T000000Z
LOCATION:
END:VEVENT
BEGIN:VEVENT
SUMMARY:Blocking period October/November 2019
UID:16872
DTSTART:20191018T220000Z
DTEND:20191018T220000Z
LAST-MODIFIED:20190110T000000Z
LOCATION:
END:VEVENT
BEGIN:VEVENT
SUMMARY:Blocking period October/November 2019
UID:16872
DTSTART:20191019T220000Z
DTEND:20191019T220000Z
LAST-MODIFIED:20190110T000000Z
LOCATION:
END:VEVENT
BEGIN:VEVENT
SUMMARY:Blocking period October/November 2019
UID:16872
DTSTART:20191020T220000Z
DTEND:20191020T220000Z
LAST-MODIFIED:20190110T000000Z
LOCATION:
END:VEVENT
BEGIN:VEVENT
SUMMARY:Blocking period October/November 2019
UID:16872
DTSTART:20191021T220000Z
DTEND:20191021T220000Z
LAST-MODIFIED:20190110T000000Z
LOCATION:
END:VEVENT
BEGIN:VEVENT
SUMMARY:Blocking period October/November 2019
UID:16872
DTSTART:20191022T220000Z
DTEND:20191022T220000Z
LAST-MODIFIED:20190110T000000Z
LOCATION:
END:VEVENT
BEGIN:VEVENT
SUMMARY:Blocking period October/November 2019
UID:16872
DTSTART:20191023T220000Z
DTEND:20191023T220000Z
LAST-MODIFIED:20190110T000000Z
LOCATION:
END:VEVENT
BEGIN:VEVENT
SUMMARY:Blocking period October/November 2019
UID:16872
DTSTART:20191024T220000Z
DTEND:20191024T220000Z
LAST-MODIFIED:20190110T000000Z
LOCATION:
END:VEVENT
BEGIN:VEVENT
SUMMARY:Blocking period October/November 2019
UID:16872
DTSTART:20191025T220000Z
DTEND:20191025T220000Z
LAST-MODIFIED:20190110T000000Z
LOCATION:
END:VEVENT
BEGIN:VEVENT
SUMMARY:Blocking period October/November 2019
UID:16872
DTSTART:20191026T220000Z
DTEND:20191026T220000Z
LAST-MODIFIED:20190110T000000Z
LOCATION:
END:VEVENT
BEGIN:VEVENT
SUMMARY:Blocking period October/November 2019
UID:16872
DTSTART:20191027T230000Z
DTEND:20191027T230000Z
LAST-MODIFIED:20190110T000000Z
LOCATION:
END:VEVENT
BEGIN:VEVENT
SUMMARY:Blocking period October/November 2019
UID:16872
DTSTART:20191028T230000Z
DTEND:20191028T230000Z
LAST-MODIFIED:20190110T000000Z
LOCATION:
END:VEVENT
BEGIN:VEVENT
SUMMARY:Blocking period October/November 2019
UID:16872
DTSTART:20191029T230000Z
DTEND:20191029T230000Z
LAST-MODIFIED:20190110T000000Z
LOCATION:
END:VEVENT
BEGIN:VEVENT
SUMMARY:Blocking period October/November 2019
UID:16872
DTSTART:20191030T230000Z
DTEND:20191030T230000Z
LAST-MODIFIED:20190110T000000Z
LOCATION:
END:VEVENT
BEGIN:VEVENT
SUMMARY:Blocking period October/November 2019
UID:16872
DTSTART:20191031T230000Z
DTEND:20191031T230000Z
LAST-MODIFIED:20190110T000000Z
LOCATION:
END:VEVENT
BEGIN:VEVENT
SUMMARY:Blocking period October/November 2019
UID:16872
DTSTART:20191101T230000Z
DTEND:20191101T230000Z
LAST-MODIFIED:20190110T000000Z
LOCATION:
END:VEVENT
BEGIN:VEVENT
SUMMARY:Blocking period October/November 2019
UID:16872
DTSTART:20191102T230000Z
DTEND:20191102T230000Z
LAST-MODIFIED:20190110T000000Z
LOCATION:
END:VEVENT
BEGIN:VEVENT
SUMMARY:Blocking period October/November 2019
UID:16872
DTSTART:20191103T230000Z
DTEND:20191103T230000Z
LAST-MODIFIED:20190110T000000Z
LOCATION:
END:VEVENT
BEGIN:VEVENT
SUMMARY:Blocking period October/November 2019
UID:16872
DTSTART:20191104T230000Z
DTEND:20191104T230000Z
LAST-MODIFIED:20190110T000000Z
LOCATION:
END:VEVENT
BEGIN:VEVENT
SUMMARY:Blocking period October/November 2019
UID:16872
DTSTART:20191105T230000Z
DTEND:20191105T230000Z
LAST-MODIFIED:20190110T000000Z
LOCATION:
END:VEVENT
END:VCALENDAR