BEGIN:VCALENDAR
METHOD:PUBLISH
VERSION:2.0
PRODID:-//IGD//IGD//IT
BEGIN:VEVENT
SUMMARY:Blocking period July/August 2019
UID:16866
DTSTART:20190702T220000Z
DTEND:20190702T220000Z
LAST-MODIFIED:20190110T000000Z
LOCATION:
END:VEVENT
BEGIN:VEVENT
SUMMARY:Blocking period July/August 2019
UID:16866
DTSTART:20190703T220000Z
DTEND:20190703T220000Z
LAST-MODIFIED:20190110T000000Z
LOCATION:
END:VEVENT
BEGIN:VEVENT
SUMMARY:Blocking period July/August 2019
UID:16866
DTSTART:20190704T220000Z
DTEND:20190704T220000Z
LAST-MODIFIED:20190110T000000Z
LOCATION:
END:VEVENT
BEGIN:VEVENT
SUMMARY:Blocking period July/August 2019
UID:16866
DTSTART:20190705T220000Z
DTEND:20190705T220000Z
LAST-MODIFIED:20190110T000000Z
LOCATION:
END:VEVENT
BEGIN:VEVENT
SUMMARY:Blocking period July/August 2019
UID:16866
DTSTART:20190706T220000Z
DTEND:20190706T220000Z
LAST-MODIFIED:20190110T000000Z
LOCATION:
END:VEVENT
BEGIN:VEVENT
SUMMARY:Blocking period July/August 2019
UID:16866
DTSTART:20190707T220000Z
DTEND:20190707T220000Z
LAST-MODIFIED:20190110T000000Z
LOCATION:
END:VEVENT
BEGIN:VEVENT
SUMMARY:Blocking period July/August 2019
UID:16866
DTSTART:20190708T220000Z
DTEND:20190708T220000Z
LAST-MODIFIED:20190110T000000Z
LOCATION:
END:VEVENT
BEGIN:VEVENT
SUMMARY:Blocking period July/August 2019
UID:16866
DTSTART:20190709T220000Z
DTEND:20190709T220000Z
LAST-MODIFIED:20190110T000000Z
LOCATION:
END:VEVENT
BEGIN:VEVENT
SUMMARY:Blocking period July/August 2019
UID:16866
DTSTART:20190710T220000Z
DTEND:20190710T220000Z
LAST-MODIFIED:20190110T000000Z
LOCATION:
END:VEVENT
BEGIN:VEVENT
SUMMARY:Blocking period July/August 2019
UID:16866
DTSTART:20190711T220000Z
DTEND:20190711T220000Z
LAST-MODIFIED:20190110T000000Z
LOCATION:
END:VEVENT
BEGIN:VEVENT
SUMMARY:Blocking period July/August 2019
UID:16866
DTSTART:20190712T220000Z
DTEND:20190712T220000Z
LAST-MODIFIED:20190110T000000Z
LOCATION:
END:VEVENT
BEGIN:VEVENT
SUMMARY:Blocking period July/August 2019
UID:16866
DTSTART:20190713T220000Z
DTEND:20190713T220000Z
LAST-MODIFIED:20190110T000000Z
LOCATION:
END:VEVENT
BEGIN:VEVENT
SUMMARY:Blocking period July/August 2019
UID:16866
DTSTART:20190714T220000Z
DTEND:20190714T220000Z
LAST-MODIFIED:20190110T000000Z
LOCATION:
END:VEVENT
BEGIN:VEVENT
SUMMARY:Blocking period July/August 2019
UID:16866
DTSTART:20190715T220000Z
DTEND:20190715T220000Z
LAST-MODIFIED:20190110T000000Z
LOCATION:
END:VEVENT
BEGIN:VEVENT
SUMMARY:Blocking period July/August 2019
UID:16866
DTSTART:20190716T220000Z
DTEND:20190716T220000Z
LAST-MODIFIED:20190110T000000Z
LOCATION:
END:VEVENT
BEGIN:VEVENT
SUMMARY:Blocking period July/August 2019
UID:16866
DTSTART:20190717T220000Z
DTEND:20190717T220000Z
LAST-MODIFIED:20190110T000000Z
LOCATION:
END:VEVENT
BEGIN:VEVENT
SUMMARY:Blocking period July/August 2019
UID:16866
DTSTART:20190718T220000Z
DTEND:20190718T220000Z
LAST-MODIFIED:20190110T000000Z
LOCATION:
END:VEVENT
BEGIN:VEVENT
SUMMARY:Blocking period July/August 2019
UID:16866
DTSTART:20190719T220000Z
DTEND:20190719T220000Z
LAST-MODIFIED:20190110T000000Z
LOCATION:
END:VEVENT
BEGIN:VEVENT
SUMMARY:Blocking period July/August 2019
UID:16866
DTSTART:20190720T220000Z
DTEND:20190720T220000Z
LAST-MODIFIED:20190110T000000Z
LOCATION:
END:VEVENT
BEGIN:VEVENT
SUMMARY:Blocking period July/August 2019
UID:16866
DTSTART:20190721T220000Z
DTEND:20190721T220000Z
LAST-MODIFIED:20190110T000000Z
LOCATION:
END:VEVENT
BEGIN:VEVENT
SUMMARY:Blocking period July/August 2019
UID:16866
DTSTART:20190722T220000Z
DTEND:20190722T220000Z
LAST-MODIFIED:20190110T000000Z
LOCATION:
END:VEVENT
BEGIN:VEVENT
SUMMARY:Blocking period July/August 2019
UID:16866
DTSTART:20190723T220000Z
DTEND:20190723T220000Z
LAST-MODIFIED:20190110T000000Z
LOCATION:
END:VEVENT
BEGIN:VEVENT
SUMMARY:Blocking period July/August 2019
UID:16866
DTSTART:20190724T220000Z
DTEND:20190724T220000Z
LAST-MODIFIED:20190110T000000Z
LOCATION:
END:VEVENT
BEGIN:VEVENT
SUMMARY:Blocking period July/August 2019
UID:16866
DTSTART:20190725T220000Z
DTEND:20190725T220000Z
LAST-MODIFIED:20190110T000000Z
LOCATION:
END:VEVENT
BEGIN:VEVENT
SUMMARY:Blocking period July/August 2019
UID:16866
DTSTART:20190726T220000Z
DTEND:20190726T220000Z
LAST-MODIFIED:20190110T000000Z
LOCATION:
END:VEVENT
BEGIN:VEVENT
SUMMARY:Blocking period July/August 2019
UID:16866
DTSTART:20190727T220000Z
DTEND:20190727T220000Z
LAST-MODIFIED:20190110T000000Z
LOCATION:
END:VEVENT
BEGIN:VEVENT
SUMMARY:Blocking period July/August 2019
UID:16866
DTSTART:20190728T220000Z
DTEND:20190728T220000Z
LAST-MODIFIED:20190110T000000Z
LOCATION:
END:VEVENT
BEGIN:VEVENT
SUMMARY:Blocking period July/August 2019
UID:16866
DTSTART:20190729T220000Z
DTEND:20190729T220000Z
LAST-MODIFIED:20190110T000000Z
LOCATION:
END:VEVENT
BEGIN:VEVENT
SUMMARY:Blocking period July/August 2019
UID:16866
DTSTART:20190730T220000Z
DTEND:20190730T220000Z
LAST-MODIFIED:20190110T000000Z
LOCATION:
END:VEVENT
BEGIN:VEVENT
SUMMARY:Blocking period July/August 2019
UID:16866
DTSTART:20190731T220000Z
DTEND:20190731T220000Z
LAST-MODIFIED:20190110T000000Z
LOCATION:
END:VEVENT
END:VCALENDAR