BEGIN:VCALENDAR
METHOD:PUBLISH
VERSION:2.0
PRODID:-//IGD//IGD//IT
BEGIN:VEVENT
SUMMARY:Blocking period April/May 2019
UID:16861
DTSTART:20190406T220000Z
DTEND:20190406T220000Z
LAST-MODIFIED:20190110T000000Z
LOCATION:
END:VEVENT
BEGIN:VEVENT
SUMMARY:Blocking period April/May 2019
UID:16861
DTSTART:20190407T220000Z
DTEND:20190407T220000Z
LAST-MODIFIED:20190110T000000Z
LOCATION:
END:VEVENT
BEGIN:VEVENT
SUMMARY:Blocking period April/May 2019
UID:16861
DTSTART:20190408T220000Z
DTEND:20190408T220000Z
LAST-MODIFIED:20190110T000000Z
LOCATION:
END:VEVENT
BEGIN:VEVENT
SUMMARY:Blocking period April/May 2019
UID:16861
DTSTART:20190409T220000Z
DTEND:20190409T220000Z
LAST-MODIFIED:20190110T000000Z
LOCATION:
END:VEVENT
BEGIN:VEVENT
SUMMARY:Blocking period April/May 2019
UID:16861
DTSTART:20190410T220000Z
DTEND:20190410T220000Z
LAST-MODIFIED:20190110T000000Z
LOCATION:
END:VEVENT
BEGIN:VEVENT
SUMMARY:Blocking period April/May 2019
UID:16861
DTSTART:20190411T220000Z
DTEND:20190411T220000Z
LAST-MODIFIED:20190110T000000Z
LOCATION:
END:VEVENT
BEGIN:VEVENT
SUMMARY:Blocking period April/May 2019
UID:16861
DTSTART:20190412T220000Z
DTEND:20190412T220000Z
LAST-MODIFIED:20190110T000000Z
LOCATION:
END:VEVENT
BEGIN:VEVENT
SUMMARY:Blocking period April/May 2019
UID:16861
DTSTART:20190413T220000Z
DTEND:20190413T220000Z
LAST-MODIFIED:20190110T000000Z
LOCATION:
END:VEVENT
BEGIN:VEVENT
SUMMARY:Blocking period April/May 2019
UID:16861
DTSTART:20190414T220000Z
DTEND:20190414T220000Z
LAST-MODIFIED:20190110T000000Z
LOCATION:
END:VEVENT
BEGIN:VEVENT
SUMMARY:Blocking period April/May 2019
UID:16861
DTSTART:20190415T220000Z
DTEND:20190415T220000Z
LAST-MODIFIED:20190110T000000Z
LOCATION:
END:VEVENT
BEGIN:VEVENT
SUMMARY:Blocking period April/May 2019
UID:16861
DTSTART:20190416T220000Z
DTEND:20190416T220000Z
LAST-MODIFIED:20190110T000000Z
LOCATION:
END:VEVENT
BEGIN:VEVENT
SUMMARY:Blocking period April/May 2019
UID:16861
DTSTART:20190417T220000Z
DTEND:20190417T220000Z
LAST-MODIFIED:20190110T000000Z
LOCATION:
END:VEVENT
BEGIN:VEVENT
SUMMARY:Blocking period April/May 2019
UID:16861
DTSTART:20190418T220000Z
DTEND:20190418T220000Z
LAST-MODIFIED:20190110T000000Z
LOCATION:
END:VEVENT
BEGIN:VEVENT
SUMMARY:Blocking period April/May 2019
UID:16861
DTSTART:20190419T220000Z
DTEND:20190419T220000Z
LAST-MODIFIED:20190110T000000Z
LOCATION:
END:VEVENT
BEGIN:VEVENT
SUMMARY:Blocking period April/May 2019
UID:16861
DTSTART:20190420T220000Z
DTEND:20190420T220000Z
LAST-MODIFIED:20190110T000000Z
LOCATION:
END:VEVENT
BEGIN:VEVENT
SUMMARY:Blocking period April/May 2019
UID:16861
DTSTART:20190421T220000Z
DTEND:20190421T220000Z
LAST-MODIFIED:20190110T000000Z
LOCATION:
END:VEVENT
BEGIN:VEVENT
SUMMARY:Blocking period April/May 2019
UID:16861
DTSTART:20190422T220000Z
DTEND:20190422T220000Z
LAST-MODIFIED:20190110T000000Z
LOCATION:
END:VEVENT
BEGIN:VEVENT
SUMMARY:Blocking period April/May 2019
UID:16861
DTSTART:20190423T220000Z
DTEND:20190423T220000Z
LAST-MODIFIED:20190110T000000Z
LOCATION:
END:VEVENT
BEGIN:VEVENT
SUMMARY:Blocking period April/May 2019
UID:16861
DTSTART:20190424T220000Z
DTEND:20190424T220000Z
LAST-MODIFIED:20190110T000000Z
LOCATION:
END:VEVENT
BEGIN:VEVENT
SUMMARY:Blocking period April/May 2019
UID:16861
DTSTART:20190425T220000Z
DTEND:20190425T220000Z
LAST-MODIFIED:20190110T000000Z
LOCATION:
END:VEVENT
BEGIN:VEVENT
SUMMARY:Blocking period April/May 2019
UID:16861
DTSTART:20190426T220000Z
DTEND:20190426T220000Z
LAST-MODIFIED:20190110T000000Z
LOCATION:
END:VEVENT
BEGIN:VEVENT
SUMMARY:Blocking period April/May 2019
UID:16861
DTSTART:20190427T220000Z
DTEND:20190427T220000Z
LAST-MODIFIED:20190110T000000Z
LOCATION:
END:VEVENT
BEGIN:VEVENT
SUMMARY:Blocking period April/May 2019
UID:16861
DTSTART:20190428T220000Z
DTEND:20190428T220000Z
LAST-MODIFIED:20190110T000000Z
LOCATION:
END:VEVENT
BEGIN:VEVENT
SUMMARY:Blocking period April/May 2019
UID:16861
DTSTART:20190429T220000Z
DTEND:20190429T220000Z
LAST-MODIFIED:20190110T000000Z
LOCATION:
END:VEVENT
BEGIN:VEVENT
SUMMARY:Blocking period April/May 2019
UID:16861
DTSTART:20190430T220000Z
DTEND:20190430T220000Z
LAST-MODIFIED:20190110T000000Z
LOCATION:
END:VEVENT
BEGIN:VEVENT
SUMMARY:Blocking period April/May 2019
UID:16861
DTSTART:20190501T220000Z
DTEND:20190501T220000Z
LAST-MODIFIED:20190110T000000Z
LOCATION:
END:VEVENT
BEGIN:VEVENT
SUMMARY:Blocking period April/May 2019
UID:16861
DTSTART:20190502T220000Z
DTEND:20190502T220000Z
LAST-MODIFIED:20190110T000000Z
LOCATION:
END:VEVENT
BEGIN:VEVENT
SUMMARY:Blocking period April/May 2019
UID:16861
DTSTART:20190503T220000Z
DTEND:20190503T220000Z
LAST-MODIFIED:20190110T000000Z
LOCATION:
END:VEVENT
BEGIN:VEVENT
SUMMARY:Blocking period April/May 2019
UID:16861
DTSTART:20190504T220000Z
DTEND:20190504T220000Z
LAST-MODIFIED:20190110T000000Z
LOCATION:
END:VEVENT
BEGIN:VEVENT
SUMMARY:Blocking period April/May 2019
UID:16861
DTSTART:20190505T220000Z
DTEND:20190505T220000Z
LAST-MODIFIED:20190110T000000Z
LOCATION:
END:VEVENT
END:VCALENDAR