BEGIN:VCALENDAR
METHOD:PUBLISH
VERSION:2.0
PRODID:-//IGD//IGD//IT
BEGIN:VEVENT
SUMMARY:Blocking period January/February 2019
UID:16856
DTSTART:20190126T230000Z
DTEND:20190126T230000Z
LAST-MODIFIED:20190110T000000Z
LOCATION:
END:VEVENT
BEGIN:VEVENT
SUMMARY:Blocking period January/February 2019
UID:16856
DTSTART:20190127T230000Z
DTEND:20190127T230000Z
LAST-MODIFIED:20190110T000000Z
LOCATION:
END:VEVENT
BEGIN:VEVENT
SUMMARY:Blocking period January/February 2019
UID:16856
DTSTART:20190128T230000Z
DTEND:20190128T230000Z
LAST-MODIFIED:20190110T000000Z
LOCATION:
END:VEVENT
BEGIN:VEVENT
SUMMARY:Blocking period January/February 2019
UID:16856
DTSTART:20190129T230000Z
DTEND:20190129T230000Z
LAST-MODIFIED:20190110T000000Z
LOCATION:
END:VEVENT
BEGIN:VEVENT
SUMMARY:Blocking period January/February 2019
UID:16856
DTSTART:20190130T230000Z
DTEND:20190130T230000Z
LAST-MODIFIED:20190110T000000Z
LOCATION:
END:VEVENT
BEGIN:VEVENT
SUMMARY:Blocking period January/February 2019
UID:16856
DTSTART:20190131T230000Z
DTEND:20190131T230000Z
LAST-MODIFIED:20190110T000000Z
LOCATION:
END:VEVENT
BEGIN:VEVENT
SUMMARY:Blocking period January/February 2019
UID:16856
DTSTART:20190201T230000Z
DTEND:20190201T230000Z
LAST-MODIFIED:20190110T000000Z
LOCATION:
END:VEVENT
BEGIN:VEVENT
SUMMARY:Blocking period January/February 2019
UID:16856
DTSTART:20190202T230000Z
DTEND:20190202T230000Z
LAST-MODIFIED:20190110T000000Z
LOCATION:
END:VEVENT
BEGIN:VEVENT
SUMMARY:Blocking period January/February 2019
UID:16856
DTSTART:20190203T230000Z
DTEND:20190203T230000Z
LAST-MODIFIED:20190110T000000Z
LOCATION:
END:VEVENT
BEGIN:VEVENT
SUMMARY:Blocking period January/February 2019
UID:16856
DTSTART:20190204T230000Z
DTEND:20190204T230000Z
LAST-MODIFIED:20190110T000000Z
LOCATION:
END:VEVENT
BEGIN:VEVENT
SUMMARY:Blocking period January/February 2019
UID:16856
DTSTART:20190205T230000Z
DTEND:20190205T230000Z
LAST-MODIFIED:20190110T000000Z
LOCATION:
END:VEVENT
BEGIN:VEVENT
SUMMARY:Blocking period January/February 2019
UID:16856
DTSTART:20190206T230000Z
DTEND:20190206T230000Z
LAST-MODIFIED:20190110T000000Z
LOCATION:
END:VEVENT
BEGIN:VEVENT
SUMMARY:Blocking period January/February 2019
UID:16856
DTSTART:20190207T230000Z
DTEND:20190207T230000Z
LAST-MODIFIED:20190110T000000Z
LOCATION:
END:VEVENT
BEGIN:VEVENT
SUMMARY:Blocking period January/February 2019
UID:16856
DTSTART:20190208T230000Z
DTEND:20190208T230000Z
LAST-MODIFIED:20190110T000000Z
LOCATION:
END:VEVENT
BEGIN:VEVENT
SUMMARY:Blocking period January/February 2019
UID:16856
DTSTART:20190209T230000Z
DTEND:20190209T230000Z
LAST-MODIFIED:20190110T000000Z
LOCATION:
END:VEVENT
BEGIN:VEVENT
SUMMARY:Blocking period January/February 2019
UID:16856
DTSTART:20190210T230000Z
DTEND:20190210T230000Z
LAST-MODIFIED:20190110T000000Z
LOCATION:
END:VEVENT
BEGIN:VEVENT
SUMMARY:Blocking period January/February 2019
UID:16856
DTSTART:20190211T230000Z
DTEND:20190211T230000Z
LAST-MODIFIED:20190110T000000Z
LOCATION:
END:VEVENT
BEGIN:VEVENT
SUMMARY:Blocking period January/February 2019
UID:16856
DTSTART:20190212T230000Z
DTEND:20190212T230000Z
LAST-MODIFIED:20190110T000000Z
LOCATION:
END:VEVENT
BEGIN:VEVENT
SUMMARY:Blocking period January/February 2019
UID:16856
DTSTART:20190213T230000Z
DTEND:20190213T230000Z
LAST-MODIFIED:20190110T000000Z
LOCATION:
END:VEVENT
BEGIN:VEVENT
SUMMARY:Blocking period January/February 2019
UID:16856
DTSTART:20190214T230000Z
DTEND:20190214T230000Z
LAST-MODIFIED:20190110T000000Z
LOCATION:
END:VEVENT
BEGIN:VEVENT
SUMMARY:Blocking period January/February 2019
UID:16856
DTSTART:20190215T230000Z
DTEND:20190215T230000Z
LAST-MODIFIED:20190110T000000Z
LOCATION:
END:VEVENT
BEGIN:VEVENT
SUMMARY:Blocking period January/February 2019
UID:16856
DTSTART:20190216T230000Z
DTEND:20190216T230000Z
LAST-MODIFIED:20190110T000000Z
LOCATION:
END:VEVENT
BEGIN:VEVENT
SUMMARY:Blocking period January/February 2019
UID:16856
DTSTART:20190217T230000Z
DTEND:20190217T230000Z
LAST-MODIFIED:20190110T000000Z
LOCATION:
END:VEVENT
BEGIN:VEVENT
SUMMARY:Blocking period January/February 2019
UID:16856
DTSTART:20190218T230000Z
DTEND:20190218T230000Z
LAST-MODIFIED:20190110T000000Z
LOCATION:
END:VEVENT
BEGIN:VEVENT
SUMMARY:Blocking period January/February 2019
UID:16856
DTSTART:20190219T230000Z
DTEND:20190219T230000Z
LAST-MODIFIED:20190110T000000Z
LOCATION:
END:VEVENT
BEGIN:VEVENT
SUMMARY:Blocking period January/February 2019
UID:16856
DTSTART:20190220T230000Z
DTEND:20190220T230000Z
LAST-MODIFIED:20190110T000000Z
LOCATION:
END:VEVENT
BEGIN:VEVENT
SUMMARY:Blocking period January/February 2019
UID:16856
DTSTART:20190221T230000Z
DTEND:20190221T230000Z
LAST-MODIFIED:20190110T000000Z
LOCATION:
END:VEVENT
BEGIN:VEVENT
SUMMARY:Blocking period January/February 2019
UID:16856
DTSTART:20190222T230000Z
DTEND:20190222T230000Z
LAST-MODIFIED:20190110T000000Z
LOCATION:
END:VEVENT
BEGIN:VEVENT
SUMMARY:Blocking period January/February 2019
UID:16856
DTSTART:20190223T230000Z
DTEND:20190223T230000Z
LAST-MODIFIED:20190110T000000Z
LOCATION:
END:VEVENT
BEGIN:VEVENT
SUMMARY:Blocking period January/February 2019
UID:16856
DTSTART:20190224T230000Z
DTEND:20190224T230000Z
LAST-MODIFIED:20190110T000000Z
LOCATION:
END:VEVENT
END:VCALENDAR