BEGIN:VCALENDAR
METHOD:PUBLISH
VERSION:2.0
PRODID:-//IGD//IGD//IT
BEGIN:VEVENT
SUMMARY:Annual General Meeting 10 April 2019 (first call)
UID:16851
DTSTART:20190409T220000Z
DTEND:20190409T220000Z
LAST-MODIFIED:20190110T000000Z
LOCATION:Bologna
END:VEVENT
END:VCALENDAR