BEGIN:VCALENDAR
METHOD:PUBLISH
VERSION:2.0
PRODID:-//IGD//IGD//IT
BEGIN:VEVENT
SUMMARY:Board of Directors 7 November 2019
UID:16845
DTSTART:20191106T230000Z
DTEND:20191106T230000Z
LAST-MODIFIED:20190110T000000Z
LOCATION:Bologna
END:VEVENT
END:VCALENDAR