BEGIN:VCALENDAR
METHOD:PUBLISH
VERSION:2.0
PRODID:-//IGD//IGD//IT
BEGIN:VEVENT
SUMMARY:Board of Directors 2 August 2019
UID:16839
DTSTART:20190801T220000Z
DTEND:20190801T220000Z
LAST-MODIFIED:20190802T000000Z
LOCATION:Bologna
END:VEVENT
END:VCALENDAR