BEGIN:VCALENDAR
METHOD:PUBLISH
VERSION:2.0
PRODID:-//IGD//IGD//IT
BEGIN:VEVENT
SUMMARY:Board of Directors 7 May 2019
UID:16832
DTSTART:20190507T080000Z
DTEND:20190507T080000Z
LAST-MODIFIED:20190503T000000Z
LOCATION:Bologna
END:VEVENT
END:VCALENDAR