BEGIN:VCALENDAR
METHOD:PUBLISH
VERSION:2.0
PRODID:-//IGD//IGD//IT
BEGIN:VEVENT
SUMMARY:Board of Directors 26 February 2019
UID:16829
DTSTART:20190226T091500Z
DTEND:20190226T091500Z
LAST-MODIFIED:20190225T000000Z
LOCATION:Bologna
END:VEVENT
END:VCALENDAR