BEGIN:VCALENDAR
METHOD:PUBLISH
VERSION:2.0
PRODID:-//IGD//IGD//IT
BEGIN:VEVENT
SUMMARY:Mapic Cannes 2018
UID:15636
DTSTART:20181113T230000Z
DTEND:20181113T230000Z
LAST-MODIFIED:20181107T000000Z
LOCATION:Cannes, France, Palais des Festival
END:VEVENT
BEGIN:VEVENT
SUMMARY:Mapic Cannes 2018
UID:15636
DTSTART:20181114T230000Z
DTEND:20181114T230000Z
LAST-MODIFIED:20181107T000000Z
LOCATION:Cannes, France, Palais des Festival
END:VEVENT
BEGIN:VEVENT
SUMMARY:Mapic Cannes 2018
UID:15636
DTSTART:20181115T230000Z
DTEND:20181115T230000Z
LAST-MODIFIED:20181107T000000Z
LOCATION:Cannes, France, Palais des Festival
END:VEVENT
END:VCALENDAR