BEGIN:VCALENDAR
METHOD:PUBLISH
VERSION:2.0
PRODID:-//IGD//IGD//IT
BEGIN:VEVENT
SUMMARY:EPRA Corporate Access Day
UID:15633
DTSTART:20181211T230000Z
DTEND:20181211T230000Z
LAST-MODIFIED:20190111T000000Z
LOCATION:London
END:VEVENT
END:VCALENDAR