BEGIN:VCALENDAR
METHOD:PUBLISH
VERSION:2.0
PRODID:-//IGD//IGD//IT
BEGIN:VEVENT
SUMMARY:Salone della CSR e dell&#8217;Innovazione
UID:14090
DTSTART:20181002T220000Z
DTEND:20181002T220000Z
LAST-MODIFIED:20180928T000000Z
LOCATION:Milan
END:VEVENT
END:VCALENDAR