BEGIN:VCALENDAR
METHOD:PUBLISH
VERSION:2.0
PRODID:-//IGD//IGD//IT
BEGIN:VEVENT
SUMMARY:ISMO &#8211; Italian Stock Market Opportunities
UID:14081
DTSTART:20180926T090000Z
DTEND:20180926T100000Z
LAST-MODIFIED:20180925T000000Z
LOCATION:Milan
END:VEVENT
END:VCALENDAR