BEGIN:VCALENDAR
METHOD:PUBLISH
VERSION:2.0
PRODID:-//IGD//IGD//IT
BEGIN:VEVENT
SUMMARY:Fixed Income Real Estate Conference
UID:14077
DTSTART:20180926T220000Z
DTEND:20180926T220000Z
LAST-MODIFIED:20180925T000000Z
LOCATION:London
END:VEVENT
END:VCALENDAR